BEGIN:VCALENDAR
VERSION:2.0
BEGIN:VEVENT
SUMMARY:Butterfly Effect Fundraiser at Harlow Rugby Club
DESCRIPTION:Butterfly Effect Family Fun Day with the Mini Band\n
DTSTART:20260719T110000Z
DTEND:20260719T120000Z
LOCATION:CM20 3FD\, gb
END:VEVENT
END:VCALENDAR