BEGIN:VCALENDAR
VERSION:2.0
BEGIN:VEVENT
SUMMARY:Harlow Fields Summer Fayre at Harlow Fields School
DESCRIPTION:
DTSTART:20260627T133000Z
DTEND:20260627T153000Z
LOCATION:CM18 6RN\, gb
END:VEVENT
END:VCALENDAR