BEGIN:VCALENDAR
VERSION:2.0
BEGIN:VEVENT
SUMMARY:Harlow Fireworks Display at Town Park
DESCRIPTION:
DTSTART:20261108T173000Z
DTEND:20261108T193000Z
LOCATION:Harlow\, CM20 2QQ\, gb
END:VEVENT
END:VCALENDAR