BEGIN:VCALENDAR
VERSION:2.0
BEGIN:VEVENT
SUMMARY:Harlow Museum at Harlow Museum
DESCRIPTION:Community Fete\n
DTSTART:20260815T110000Z
DTEND:20260815T150000Z
LOCATION:CM20 2LF\, gb
END:VEVENT
END:VCALENDAR