BEGIN:VCALENDAR
VERSION:2.0
BEGIN:VEVENT
SUMMARY:Scarecrow Festival at High Wych Playing Field
DESCRIPTION:
DTSTART:20260913T100000Z
DTEND:20260913T120000Z
LOCATION:High Wych\, CM21 0JB\, gb
END:VEVENT
END:VCALENDAR