BEGIN:VCALENDAR
VERSION:2.0
BEGIN:VEVENT
SUMMARY:Tilly's 10 Fundraiser at Harlow Rugby Club
DESCRIPTION:A womens rugby tournament and family fun day to raise money for SANDS\, in memory of Tillyhttps://www.sands.org.uk/\n
DTSTART:20260606T130000Z
DTEND:20260606T150000Z
LOCATION:CM20 3FD\, gb
END:VEVENT
END:VCALENDAR